BEGIN:VCALENDAR
VERSION:2.0
PRODID:-//Indy Art Center - ECPv6.15.20//NONSGML v1.0//EN
CALSCALE:GREGORIAN
METHOD:PUBLISH
X-WR-CALNAME:Indy Art Center
X-ORIGINAL-URL:https://indyartcenter.org
X-WR-CALDESC:Events for Indy Art Center
REFRESH-INTERVAL;VALUE=DURATION:PT1H
X-Robots-Tag:noindex
X-PUBLISHED-TTL:PT1H
BEGIN:VTIMEZONE
TZID:America/Indiana/Indianapolis
BEGIN:DAYLIGHT
TZOFFSETFROM:-0500
TZOFFSETTO:-0400
TZNAME:EDT
DTSTART:20240310T070000
END:DAYLIGHT
BEGIN:STANDARD
TZOFFSETFROM:-0400
TZOFFSETTO:-0500
TZNAME:EST
DTSTART:20241103T060000
END:STANDARD
BEGIN:DAYLIGHT
TZOFFSETFROM:-0500
TZOFFSETTO:-0400
TZNAME:EDT
DTSTART:20250309T070000
END:DAYLIGHT
BEGIN:STANDARD
TZOFFSETFROM:-0400
TZOFFSETTO:-0500
TZNAME:EST
DTSTART:20251102T060000
END:STANDARD
BEGIN:DAYLIGHT
TZOFFSETFROM:-0500
TZOFFSETTO:-0400
TZNAME:EDT
DTSTART:20260308T070000
END:DAYLIGHT
BEGIN:STANDARD
TZOFFSETFROM:-0400
TZOFFSETTO:-0500
TZNAME:EST
DTSTART:20261101T060000
END:STANDARD
END:VTIMEZONE
BEGIN:VEVENT
DTSTART;TZID=America/Indiana/Indianapolis:20251024T170000
DTEND;TZID=America/Indiana/Indianapolis:20251024T200000
DTSTAMP:20260425T083605
CREATED:20250623T192722Z
LAST-MODIFIED:20251013T184740Z
UID:13622-1761325200-1761336000@indyartcenter.org
SUMMARY:Winter Exhibition Series Opening Reception
DESCRIPTION:Join us for the opening reception of our Winter Exhibition Series on October 24\, 2025\, from 5-8 PM! \n\nBryana Bibbs\nBest of the 87th Student Show in Memory of Judy Christofolis\nSkip McKinney Award Winner: Abby Dennis\nArtTroop\nIvyTech Student Show\n\nOn view October 20\, 2025 to December 14\, 2025.
URL:https://indyartcenter.org/event/winter-exhibition-series-opening-reception-2/
LOCATION:IN
ATTACH;FMTTYPE=image/jpeg:https://indyartcenter.org/shh-content/uploads/2025/06/SpringExhibitionSeries25_OpeningReception_IMG_0371.jpg
END:VEVENT
BEGIN:VEVENT
DTSTART;TZID=America/Indiana/Indianapolis:20251018T120000
DTEND;TZID=America/Indiana/Indianapolis:20251018T170000
DTSTAMP:20260425T083605
CREATED:20250127T215822Z
LAST-MODIFIED:20251013T184707Z
UID:12374-1760788800-1760806800@indyartcenter.org
SUMMARY:Locally Made: Indy's Fall Fest
DESCRIPTION:Locally Made: Indy’s Fall Fest will be held on Saturday\, October 18\, from noon to 5 pm.  ARTSPARK will come alive with art activities\, art\, food\, and more! This event features artwork\, wares\, and artisanal goods from 50+ local and regional artists with one-of-a-kind work. Guests will be able to participate in art activities while enjoying a sampling of local artists and artisans\, food trucks\, local beer and a variety of wine for purchase! This event is very family friendly so bring the whole crew and enjoy a fun-filled fall day! Admission is free and open to the public. Activities available for for all ages. Make-It-Take-Its for adults available for pre-purchase. \nAdmission and Pumpkin Painting is FREE!
URL:https://indyartcenter.org/event/locally-made-indys-fall-fest-2/
LOCATION:Indy Art Center\, 820 East 67th Street\, Indianapolis\, IN\, 46220\, United States
ATTACH;FMTTYPE=image/jpeg:https://indyartcenter.org/shh-content/uploads/2025/01/LocallyMade2025_DigitalAssets_680x455_WebPage-1.jpg
END:VEVENT
END:VCALENDAR