BEGIN:VCALENDAR
VERSION:2.0
PRODID:-//Indy Art Center - ECPv6.15.20//NONSGML v1.0//EN
CALSCALE:GREGORIAN
METHOD:PUBLISH
X-ORIGINAL-URL:https://indyartcenter.org
X-WR-CALDESC:Events for Indy Art Center
REFRESH-INTERVAL;VALUE=DURATION:PT1H
X-Robots-Tag:noindex
X-PUBLISHED-TTL:PT1H
BEGIN:VTIMEZONE
TZID:America/Indiana/Indianapolis
BEGIN:DAYLIGHT
TZOFFSETFROM:-0500
TZOFFSETTO:-0400
TZNAME:EDT
DTSTART:20250309T070000
END:DAYLIGHT
BEGIN:STANDARD
TZOFFSETFROM:-0400
TZOFFSETTO:-0500
TZNAME:EST
DTSTART:20251102T060000
END:STANDARD
BEGIN:DAYLIGHT
TZOFFSETFROM:-0500
TZOFFSETTO:-0400
TZNAME:EDT
DTSTART:20260308T070000
END:DAYLIGHT
BEGIN:STANDARD
TZOFFSETFROM:-0400
TZOFFSETTO:-0500
TZNAME:EST
DTSTART:20261101T060000
END:STANDARD
BEGIN:DAYLIGHT
TZOFFSETFROM:-0500
TZOFFSETTO:-0400
TZNAME:EDT
DTSTART:20270314T070000
END:DAYLIGHT
BEGIN:STANDARD
TZOFFSETFROM:-0400
TZOFFSETTO:-0500
TZNAME:EST
DTSTART:20271107T060000
END:STANDARD
END:VTIMEZONE
BEGIN:VEVENT
DTSTART;TZID=America/Indiana/Indianapolis:20261126T170000
DTEND;TZID=America/Indiana/Indianapolis:20261126T200000
DTSTAMP:20260425T080754
CREATED:20260220T165535Z
LAST-MODIFIED:20260220T165905Z
UID:15221-1795712400-1795723200@indyartcenter.org
SUMMARY:Winter Exhibition Series Opening Reception
DESCRIPTION:Becky Fehsenfeld\,\nBest of 88th Annual Student Show\,\nSkip McKinney Faculty of the Year Awrd Winner\,\nArtTroop
URL:https://indyartcenter.org/event/winter-exhibition-series/
LOCATION:Indy Art Center\, 820 East 67th Street\, Indianapolis\, IN\, 46220\, United States
CATEGORIES:Exhibitions
ATTACH;FMTTYPE=image/jpeg:https://indyartcenter.org/shh-content/uploads/2026/02/018A9806-scaled.jpg
END:VEVENT
END:VCALENDAR