BEGIN:VCALENDAR
VERSION:2.0
PRODID:-//Indy Art Center - ECPv6.15.20//NONSGML v1.0//EN
CALSCALE:GREGORIAN
METHOD:PUBLISH
X-WR-CALNAME:Indy Art Center
X-ORIGINAL-URL:https://indyartcenter.org
X-WR-CALDESC:Events for Indy Art Center
REFRESH-INTERVAL;VALUE=DURATION:PT1H
X-Robots-Tag:noindex
X-PUBLISHED-TTL:PT1H
BEGIN:VTIMEZONE
TZID:America/Indiana/Indianapolis
BEGIN:DAYLIGHT
TZOFFSETFROM:-0500
TZOFFSETTO:-0400
TZNAME:EDT
DTSTART:20240310T070000
END:DAYLIGHT
BEGIN:STANDARD
TZOFFSETFROM:-0400
TZOFFSETTO:-0500
TZNAME:EST
DTSTART:20241103T060000
END:STANDARD
BEGIN:DAYLIGHT
TZOFFSETFROM:-0500
TZOFFSETTO:-0400
TZNAME:EDT
DTSTART:20250309T070000
END:DAYLIGHT
BEGIN:STANDARD
TZOFFSETFROM:-0400
TZOFFSETTO:-0500
TZNAME:EST
DTSTART:20251102T060000
END:STANDARD
BEGIN:DAYLIGHT
TZOFFSETFROM:-0500
TZOFFSETTO:-0400
TZNAME:EDT
DTSTART:20260308T070000
END:DAYLIGHT
BEGIN:STANDARD
TZOFFSETFROM:-0400
TZOFFSETTO:-0500
TZNAME:EST
DTSTART:20261101T060000
END:STANDARD
END:VTIMEZONE
BEGIN:VEVENT
DTSTART;VALUE=DATE:20251108
DTEND;VALUE=DATE:20251109
DTSTAMP:20260424T160841
CREATED:20250127T214954Z
LAST-MODIFIED:20251013T184618Z
UID:12372-1762560000-1762646399@indyartcenter.org
SUMMARY:13th Annual Veterans Art Day
DESCRIPTION:Join us at Indy Art Center for a day of FREE art-making workshops for veterans\, service members\, military family members 18+\, and caregivers. Morning and afternoon workshops will be available in glassblowing\, ceramics\, painting\, and more. Participants are welcome and encouraged to sign up for both morning and afternoon workshops. \nRegistration for the 13th Annual Veterans Art Day will open in September! \nFunding for Veterans Art Day is provided in honor and memory of Vincent Maxwell.
URL:https://indyartcenter.org/event/13th-annual-veterans-art-day/
LOCATION:Indy Art Center\, 820 East 67th Street\, Indianapolis\, IN\, 46220\, United States
ATTACH;FMTTYPE=image/jpeg:https://indyartcenter.org/shh-content/uploads/2021/11/Veterans-Art-Day_076_November-02-2019_Whitney-Alderson.jpg
END:VEVENT
END:VCALENDAR